BEGIN:VCALENDAR
VERSION:2.0
PRODID:icalendar-ruby
CALSCALE:GREGORIAN
METHOD:PUBLISH
BEGIN:VEVENT
DTSTAMP:20260420T105532Z
UID:36-396711@fumchanford.org
DTSTART:20261101T190000Z
DTEND:20261101T200000Z
CLASS:PUBLIC
CREATED:20260420T005757
DESCRIPTION:
LAST-MODIFIED:20260420T005757
LOCATION:FUMC Hanford
SUMMARY:Sunday Worship
URL;VALUE=URI:https://www.fumchanford.org/events/sunday-worship/2026-11-01
ATTACH;FILENAME=Stained-Glass-1.jpg;FMTTYPE=image/jpeg:https://dq5pwpg1q8ru
 0.cloudfront.net/2026/04/19/16/10/25/0e456bc2-f93b-4a91-8062-3d55e625f989/
 Stained-Glass-1.jpg
END:VEVENT
END:VCALENDAR
